BEGIN:VCALENDAR
VERSION:2.0
PRODID:-//feuerwehr-gersheim.de//NONSGML kigkonsult.se iCalcreator 2.30.10/
 /
CALSCALE:GREGORIAN
METHOD:PUBLISH
UID:88d90eff-3387-4ea9-a5fa-39e5ef4f8f19
X-WR-CALNAME:iCagenda
X-WR-CALDESC:Event Management Extension for Joomla!
X-WR-RELCALID:3E26604A-50F4-4449-8B3E-E4F4932D05B5
X-WR-TIMEZONE:Europe/Berlin
BEGIN:VTIMEZONE
TZID:Europe/Berlin
BEGIN:STANDARD
TZNAME:CET
DTSTART:20241027T030000
TZOFFSETFROM:+0200
TZOFFSETTO:+0100
RDATE:20251026T030000
END:STANDARD
BEGIN:DAYLIGHT
TZNAME:CEST
DTSTART:20240331T020000
TZOFFSETFROM:+0100
TZOFFSETTO:+0200
RDATE:20250330T020000
RDATE:20260329T020000
END:DAYLIGHT
END:VTIMEZONE
BEGIN:VEVENT
UID:4b7b4cbf-5e4a-47cc-bfe0-e3c148177409
DTSTAMP:20260419T135939Z
CATEGORIES:Übung
CLASS:PUBLIC
DESCRIPTION;ALTREP="CID:<FFFF__=0ABBE548DFE235B58f9e8a93d@coffeebean.com>":
 Übung Jahresabschlußübung
DTSTART:20241223T180000Z
DTEND:20241223T180000Z
GEO:00;0
LOCATION:Gerätehaus
ORGANIZER:
SEQUENCE:1
SUMMARY:Übung Jahresabschlußübung
TRANSP:OPAQUE
URL:http://feuerwehr-gersheim.de/index.php/termine/30-uebung-jahresabschlus
 suebung/2024-12-23-19-00
END:VEVENT
END:VCALENDAR
