BEGIN:VCALENDAR
VERSION:2.0
PRODID:-//feuerwehr-gersheim.de//NONSGML kigkonsult.se iCalcreator 2.30.10/
 /
CALSCALE:GREGORIAN
METHOD:PUBLISH
UID:89eccc38-33bd-407c-a279-311837c02ef7
X-WR-CALNAME:iCagenda
X-WR-CALDESC:Event Management Extension for Joomla!
X-WR-RELCALID:3E26604A-50F4-4449-8B3E-E4F4932D05B5
X-WR-TIMEZONE:Europe/Berlin
BEGIN:VTIMEZONE
TZID:Europe/Berlin
BEGIN:STANDARD
TZNAME:CET
DTSTART:20241027T030000
TZOFFSETFROM:+0200
TZOFFSETTO:+0100
RDATE:20251026T030000
RDATE:20261025T030000
END:STANDARD
BEGIN:DAYLIGHT
TZNAME:CEST
DTSTART:20250330T020000
TZOFFSETFROM:+0100
TZOFFSETTO:+0200
RDATE:20260329T020000
END:DAYLIGHT
END:VTIMEZONE
BEGIN:VEVENT
UID:ef7a9623-fe9f-4866-a3a5-1ff01d6de1f7
DTSTAMP:20260420T121050Z
CATEGORIES:Übung
CLASS:PUBLIC
DESCRIPTION;ALTREP="CID:<FFFF__=0ABBE548DFE235B58f9e8a93d@coffeebean.com>":
 Übung mit Gros Rederching
DTSTART:20250426T170000Z
DTEND:20250426T170000Z
GEO:00;0
LOCATION:Innerorts
ORGANIZER:
SEQUENCE:1
SUMMARY:Übung mit Gros Rederching
TRANSP:OPAQUE
URL:https://feuerwehr-gersheim.de/index.php/termine/46-uebung-mit-gros-rede
 rching/2025-04-26-19-00
END:VEVENT
END:VCALENDAR
